{
 "currentVersion": 10.81,
 "serviceDescription": "HB3Dkadastras/Traku_raj_DEM_i",
 "name": "HB3Dkadastras/Traku_raj_DEM_i",
 "description": "",
 "extent": {
  "xmin": 555000,
  "ymin": 6049999.5,
  "xmax": 565000.5,
  "ymax": 6060000.5,
  "spatialReference": {
   "wkid": 2600,
   "latestWkid": 3346,
   "vcsWkid": 105704,
   "latestVcsWkid": 105704
  }
 },
 "initialExtent": {
  "xmin": 555000,
  "ymin": 6049999.5,
  "xmax": 565000.5,
  "ymax": 6060000.5,
  "spatialReference": {
   "wkid": 2600,
   "latestWkid": 3346,
   "vcsWkid": 105704,
   "latestVcsWkid": 105704
  }
 },
 "fullExtent": {
  "xmin": 555000,
  "ymin": 6049999.5,
  "xmax": 565000.5,
  "ymax": 6060000.5,
  "spatialReference": {
   "wkid": 2600,
   "latestWkid": 3346,
   "vcsWkid": 105704,
   "latestVcsWkid": 105704
  }
 },
 "heightModelInfo": {
  "heightModel": "gravity_related_height",
  "vertCRS": "LAS07_height",
  "heightUnit": "meter"
 },
 "pixelSizeX": 0.5,
 "pixelSizeY": 0.5,
 "datasetFormat": "TIFF",
 "uncompressedSize": 1600240008,
 "blockWidth": 128,
 "blockHeight": 128,
 "compressionType": "LZW",
 "bandNames": [
  "Band_1"
 ],
 "allowCopy": true,
 "allowAnalysis": true,
 "bandCount": 1,
 "noDataValue": -3.4028234663852886E38,
 "noDataValues": [
  -3.4028234663852886E38
 ],
 "pixelType": "F32",
 "minPixelSize": 0,
 "maxPixelSize": 0,
 "copyrightText": "",
 "serviceDataType": "esriImageServiceDataTypeGeneric",
 "serviceSourceType": "esriImageServiceSourceTypeDataset",
 "minValues": [
  143.61413574219
 ],
 "maxValues": [
  205.94000244141
 ],
 "meanValues": [
  158.95480368379
 ],
 "stdvValues": [
  8.1278046843055
 ],
 "objectIdField": "",
 "fields": [],
 "capabilities": "Image,Metadata,Mensuration",
 "defaultMosaicMethod": "Center",
 "allowedMosaicMethods": "",
 "sortField": "",
 "sortValue": null,
 "sortAscending": true,
 "mosaicOperator": "First",
 "defaultCompressionQuality": 75,
 "defaultResamplingMethod": "Bilinear",
 "maxImageHeight": 4100,
 "maxImageWidth": 15000,
 "allowRasterFunction": true,
 "rasterFunctionInfos": [
  {
   "name": "None",
   "description": "",
   "help": ""
  }
 ],
 "rasterTypeInfos": [
  {
   "name": "Raster Dataset",
   "description": "Supports all ArcGIS Raster Datasets",
   "help": ""
  }
 ],
 "mensurationCapabilities": "Basic",
 "hasHistograms": true,
 "hasColormap": false,
 "hasRasterAttributeTable": false,
 "minScale": 0,
 "maxScale": 0,
 "exportTilesAllowed": false,
 "hasMultidimensions": false,
 "supportsStatistics": false,
 "supportsAdvancedQueries": false,
 "editFieldsInfo": null,
 "ownershipBasedAccessControlForRasters": null,
 "allowComputeTiePoints": false,
 "useStandardizedQueries": true,
 "advancedQueryCapabilities": {
  "useStandardizedQueries": true,
  "supportsStatistics": false,
  "supportsOrderBy": false,
  "supportsDistinct": false,
  "supportsPagination": false
 },
 "spatialReference": {
  "wkid": 2600,
  "latestWkid": 3346,
  "vcsWkid": 105704,
  "latestVcsWkid": 105704
 }
}
