View In:
ArcGIS JavaScript
ArcGIS Online Map Viewer
ArcGIS Earth
ArcMap
View Footprint In:
ArcGIS Online Map Viewer
Service Description: IE3Dkadastras/Traku_M_dtm
Name: IE3Dkadastras/Traku_M_dtm
Description:
Single Fused Map Cache: true
Tile Info:
- Height: 512
- Width: 512
- DPI: 96
-
Levels of Detail: 22
- Format: LERC
- Compression Quality: 0.0
- LERC Error: 0.01
- Origin: X: 5127.424
Y: 6609872.576
- Spatial Reference: 2600
(3346)
VCSWkid(105704)
LatestVCSWkid(105704)
Extent:
XMin: 557000.0099999997
YMin: 6053000.010219872
XMax: 562000.0099999997
YMax: 6060000.010219872
Spatial Reference: 2600
(3346)
VCSWkid(105704)
LatestVCSWkid(105704)
Initial Extent:
XMin: 557000.0099999997
YMin: 6053000.010219872
XMax: 562000.0099999997
YMax: 6060000.010219872
Spatial Reference: 2600
(3346)
VCSWkid(105704)
LatestVCSWkid(105704)
Full Extent:
XMin: 557000.0099999997
YMin: 6053000.010219872
XMax: 562000.0099999997
YMax: 6060000.010219872
Spatial Reference: 2600
(3346)
VCSWkid(105704)
LatestVCSWkid(105704)
Pixel Size X: 0.2
Pixel Size Y: 0.2
Band Count: 1
Pixel Type: F32
RasterFunction Infos: {"rasterFunctionInfos": [{
"name": "None",
"description": "",
"help": ""
}]}
Mensuration Capabilities: Basic
Has Histograms: true
Has Colormap: false
Has Multi Dimensions : false
Rendering Rule:
Min Scale: 16384000
Max Scale: 125
Min LOD: 0
Max LOD: 17
Copyright Text:
Service Data Type: esriImageServiceDataTypeGeneric
Min Values: 143.41000366210938
Max Values: 185.67999267578125
Mean Values: 156.4325897202576
Standard Deviation Values: 7.299651664157201
Object ID Field:
Fields:
None
Default Mosaic Method: Center
Allowed Mosaic Methods:
SortField:
SortValue: null
Mosaic Operator: First
Default Compression Quality: 75
Default Resampling Method: Bilinear
Max Record Count: null
Max Image Height: 4100
Max Image Width: 15000
Max Download Image Count: null
Max Mosaic Image Count: null
Allow Raster Function: true
Allow Copy: true
Allow Analysis: true
Allow Compute TiePoints: false
Supports Statistics: false
Supports Advanced Queries: false
Use StandardizedQueries: true
Raster Type Infos:
Name: Raster Dataset
Description: Supports all ArcGIS Raster Datasets
Help:
Has Raster Attribute Table: false
Edit Fields Info: null
Ownership Based AccessControl For Rasters: null
Child Resources:
Info
Histograms
Statistics
Key Properties
Legend
Raster Function Infos
Supported Operations:
Export Image
Identify
Measure
Compute Histograms
Compute Statistics Histograms
Get Samples
Compute Class Statistics
Query Boundary
Compute Pixel Location
Validate
Project