View In:
ArcGIS JavaScript
ArcGIS Online Map Viewer
ArcGIS Earth
ArcMap
View Footprint In:
ArcGIS Online Map Viewer
Service Description: HB3Dkadastras/Traku_raj_DEM_i
Name: HB3Dkadastras/Traku_raj_DEM_i
Description:
Single Fused Map Cache: false
Extent:
XMin: 555000
YMin: 6049999.5
XMax: 565000.5
YMax: 6060000.5
Spatial Reference: 2600
(3346)
VCSWkid(105704)
LatestVCSWkid(105704)
Initial Extent:
XMin: 555000
YMin: 6049999.5
XMax: 565000.5
YMax: 6060000.5
Spatial Reference: 2600
(3346)
VCSWkid(105704)
LatestVCSWkid(105704)
Full Extent:
XMin: 555000
YMin: 6049999.5
XMax: 565000.5
YMax: 6060000.5
Spatial Reference: 2600
(3346)
VCSWkid(105704)
LatestVCSWkid(105704)
Pixel Size X: 0.5
Pixel Size Y: 0.5
Band Count: 1
Pixel Type: F32
RasterFunction Infos: {"rasterFunctionInfos": [{
"name": "None",
"description": "",
"help": ""
}]}
Mensuration Capabilities: Basic
Has Histograms: true
Has Colormap: false
Has Multi Dimensions : false
Rendering Rule:
Min Scale: 0
Max Scale: 0
Copyright Text:
Service Data Type: esriImageServiceDataTypeGeneric
Min Values: 143.61413574219
Max Values: 205.94000244141
Mean Values: 158.95480368379
Standard Deviation Values: 8.1278046843055
Object ID Field:
Fields:
None
Default Mosaic Method: Center
Allowed Mosaic Methods:
SortField:
SortValue: null
Mosaic Operator: First
Default Compression Quality: 75
Default Resampling Method: Bilinear
Max Record Count: null
Max Image Height: 4100
Max Image Width: 15000
Max Download Image Count: null
Max Mosaic Image Count: null
Allow Raster Function: true
Allow Copy: true
Allow Analysis: true
Allow Compute TiePoints: false
Supports Statistics: false
Supports Advanced Queries: false
Use StandardizedQueries: true
Raster Type Infos:
Name: Raster Dataset
Description: Supports all ArcGIS Raster Datasets
Help:
Has Raster Attribute Table: false
Edit Fields Info: null
Ownership Based AccessControl For Rasters: null
Child Resources:
Info
Histograms
Statistics
Key Properties
Legend
Raster Function Infos
Supported Operations:
Export Image
Identify
Measure
Compute Histograms
Compute Statistics Histograms
Get Samples
Compute Class Statistics
Query Boundary
Compute Pixel Location
Validate
Project